BEGIN:VCALENDAR
VERSION:2.0
PRODID:-//Homefield Pub + Social - ECPv6.15.20//NONSGML v1.0//EN
CALSCALE:GREGORIAN
METHOD:PUBLISH
X-ORIGINAL-URL:https://www.homefieldpubandsocial.com
X-WR-CALDESC:Events for Homefield Pub + Social
REFRESH-INTERVAL;VALUE=DURATION:PT1H
X-Robots-Tag:noindex
X-PUBLISHED-TTL:PT1H
BEGIN:VTIMEZONE
TZID:America/Chicago
BEGIN:DAYLIGHT
TZOFFSETFROM:-0600
TZOFFSETTO:-0500
TZNAME:CDT
DTSTART:20250309T080000
END:DAYLIGHT
BEGIN:STANDARD
TZOFFSETFROM:-0500
TZOFFSETTO:-0600
TZNAME:CST
DTSTART:20251102T070000
END:STANDARD
BEGIN:DAYLIGHT
TZOFFSETFROM:-0600
TZOFFSETTO:-0500
TZNAME:CDT
DTSTART:20260308T080000
END:DAYLIGHT
BEGIN:STANDARD
TZOFFSETFROM:-0500
TZOFFSETTO:-0600
TZNAME:CST
DTSTART:20261101T070000
END:STANDARD
BEGIN:DAYLIGHT
TZOFFSETFROM:-0600
TZOFFSETTO:-0500
TZNAME:CDT
DTSTART:20270314T080000
END:DAYLIGHT
BEGIN:STANDARD
TZOFFSETFROM:-0500
TZOFFSETTO:-0600
TZNAME:CST
DTSTART:20271107T070000
END:STANDARD
END:VTIMEZONE
BEGIN:VEVENT
DTSTART;TZID=America/Chicago:20260319T093000
DTEND;TZID=America/Chicago:20260319T180000
DTSTAMP:20260422T070358
CREATED:20260127T134221Z
LAST-MODIFIED:20260211T162504Z
UID:10001447-1773912600-1773943200@www.homefieldpubandsocial.com
SUMMARY:Bill Michaels Show: March Madness Kickoff
DESCRIPTION:Kick off March Madness in the biggest way—live with Bill Michaels at Homefield Pub + Social on Thursday\, March 19! \nWe’re opening early at 9:30 a.m. to get the party started\, and The Bill Michaels Show goes live at 10 a.m. Come grab your seat\, grab a drink\, and get ready for a full day of action. \nAnd we’re not stopping there… \nPrizes. Every. Single. Hour.\nFrom 10 a.m. to 6 p.m.\, we’re giving away awesome prizes—and they get better as the day goes on. Then at 6 p.m.\, we’re pulling the grand prize winner. You must be here to win… so don’t miss your shot. \nWall‑to‑Wall March Madness\nEvery game. All day. 18 TVs means you’re in the middle of the madness—no angles missed\, no game overlooked. \nAll‑Day Food & Drink Specials\nFuel up with our fan‑favorite wings and score a FREE bucket of beer with every 3 lb or 5 lb wing purchase. Your crew will thank you. \nPlus: The Longest Drive Contest\nIt’s free to play\, fun to try\, and the winner walks away with a $100 Homefield Pub + Social gift card. Think you’ve got the swing? Prove it. \nThis is the ultimate March Madness kickoff—live energy\, nonstop games\, big prizes\, and the perfect game‑day crowd. Don’t just hear about it… be here for it. See you at Homefield! \n 
URL:https://www.homefieldpubandsocial.com/event/bill-michaels-show-march-madness-kickoff/
LOCATION:Homefield Pub + Social\, 1025 Lombardi Ave\, Suite 120\, Green Bay\, WI\, 54304\, United States
ATTACH;FMTTYPE=image/jpeg:https://www.homefieldpubandsocial.com/wp-content/uploads/2026/01/Bill-Michaels-Show-March-Madness.jpg
END:VEVENT
BEGIN:VEVENT
DTSTART;TZID=America/Chicago:20260319T110000
DTEND;TZID=America/Chicago:20260319T210000
DTSTAMP:20260422T070358
CREATED:20260226T163439Z
LAST-MODIFIED:20260226T163439Z
UID:10001452-1773918000-1773954000@www.homefieldpubandsocial.com
SUMMARY:March Hoops
DESCRIPTION:Catch all the March Basketball action at Homefield Pub + Social! \nGet ready for the biggest month in college basketball—because we’re bringing every buzzer‑beater\, upset\, and bracket‑busting moment straight to you! Join us at Homefield Pub + Social and experience the excitement like never before. \nWe’ll be showing every game live on our massive TV screen\, giving you a front‑row seat to all the action. Whether you’re cheering on your alma mater\, rooting for the underdogs\, or just here for the thrill of the tournament\, Homefield is the place to be. \nGrab a drink\, enjoy great food\, bring your friends\, and settle in for an unforgettable month of nonstop hoops energy. \nBig plays. Big crowds. Big screen. You don’t want to miss this. \n\nSunday Selections: March 15\nStarting Four: March 17-18\nRound 1: March 19-20\nRound 2: March 21-22\nRound of 16: March 26-27\nRound of 8: March 28-29\nRound of 4: April 4\nChampionship Game: April 6
URL:https://www.homefieldpubandsocial.com/event/march-hoops-4/
LOCATION:Homefield Pub + Social\, 1025 Lombardi Ave\, Suite 120\, Green Bay\, WI\, 54304\, United States
ATTACH;FMTTYPE=image/jpeg:https://www.homefieldpubandsocial.com/wp-content/uploads/2023/02/DEL-3508_SS-TRN_MarchMadness-Social_March22_v1_2000x1180.jpg
END:VEVENT
BEGIN:VEVENT
DTSTART;TZID=America/Chicago:20260319T150000
DTEND;TZID=America/Chicago:20260319T180000
DTSTAMP:20260422T070358
CREATED:20251208T194043Z
LAST-MODIFIED:20251208T194043Z
UID:10000198-1773932400-1773943200@www.homefieldpubandsocial.com
SUMMARY:Happy Hour at Homefield Pub + Social
DESCRIPTION:Happy Hour is Monday – Friday\, 3 – 6 PM at Homefield Pub + Social\nJoin us Monday–Friday from 3–6 PM for the best deals in Green Bay! \n\n\n\n$3 Domestic Cans 16 oz\n$5 Old Fashioneds\nHalf-Price Appetizers\nBook 1-hour in a Topgolf Swing Suite and get an extra 30 minutes FREE!\n\n\n*Offer subject to change based on events happening in Titletown and at Lambeau Field.
URL:https://www.homefieldpubandsocial.com/event/happy-hour-at-homefield-pub-social/2026-03-19/
LOCATION:Homefield Pub + Social\, 1025 Lombardi Ave\, Suite 120\, Green Bay\, WI\, 54304\, United States
ATTACH;FMTTYPE=image/webp:https://www.homefieldpubandsocial.com/wp-content/uploads/2025/04/hf-plan-your-visit-homepage.webp
END:VEVENT
END:VCALENDAR